BEGIN:VCALENDAR
VERSION:2.0
PRODID:-//Agenda do Vinho - ECPv4.9.0//NONSGML v1.0//EN
CALSCALE:GREGORIAN
METHOD:PUBLISH
X-WR-CALNAME:Agenda do Vinho
X-ORIGINAL-URL:https://agendadovinho.com.br
X-WR-CALDESC:Eventos para Agenda do Vinho
BEGIN:VEVENT
DTSTART;TZID=America/Sao_Paulo:20201121T190000
DTEND;TZID=America/Sao_Paulo:20201121T203000
DTSTAMP:20260423T003016
CREATED:20201112T122821Z
LAST-MODIFIED:20240626T105040Z
UID:16612-1605985200-1605990600@agendadovinho.com.br
SUMMARY:Confraria Milgrau - Chardonnays do mundo
DESCRIPTION:Confraria on-line com tema Chardonnays do mundo\, diversos estilos e terroirs. \nCada participante recebe uma garrafinha de 50 ml de cada um dos 6 rótulos a serem degustados. Degustaremos juntos no encontro virtual após breve apresentação do tema. \nOs rótulos são do Brasil\, EUA\, Austrália\, Itália\, Chablis e Borgonha. \nEvento exclusivo para Porto Alegre. \n
URL:https://agendadovinho.com.br/event/confraria-milgrau-chardonnays-do-mundo/
LOCATION:Vídeo conferência
CATEGORIES:Degustação,Online
ATTACH;FMTTYPE=image/png:https://agendadovinho.com.br/wp-content/uploads/2020/11/PicsArt_11-10-10.15.25.png
END:VEVENT
END:VCALENDAR