BEGIN:VCALENDAR
VERSION:2.0
PRODID:-//Agenda do Vinho - ECPv4.9.0//NONSGML v1.0//EN
CALSCALE:GREGORIAN
METHOD:PUBLISH
X-WR-CALNAME:Agenda do Vinho
X-ORIGINAL-URL:https://agendadovinho.com.br
X-WR-CALDESC:Eventos para Agenda do Vinho
BEGIN:VEVENT
DTSTART;TZID=America/Sao_Paulo:20200513T200000
DTEND;TZID=America/Sao_Paulo:20200513T200000
DTSTAMP:20260426T022703
CREATED:20200513T141912Z
LAST-MODIFIED:20200513T141912Z
UID:13413-1589400000-1589400000@agendadovinho.com.br
SUMMARY:Confraria harmonizada online
DESCRIPTION:13/05 – 20h \n
URL:https://agendadovinho.com.br/event/confraria-harmonizada-online/
LOCATION:Instagram
CATEGORIES:Online,Outros
ATTACH;FMTTYPE=image/jpeg:https://agendadovinho.com.br/wp-content/uploads/2020/05/contemporane_130520.jpg
END:VEVENT
END:VCALENDAR