BEGIN:VCALENDAR
VERSION:2.0
PRODID:-//Agenda do Vinho - ECPv4.9.0//NONSGML v1.0//EN
CALSCALE:GREGORIAN
METHOD:PUBLISH
X-WR-CALNAME:Agenda do Vinho
X-ORIGINAL-URL:https://agendadovinho.com.br
X-WR-CALDESC:Eventos para Agenda do Vinho
BEGIN:VEVENT
DTSTART;TZID=America/Sao_Paulo:20200617T200000
DTEND;TZID=America/Sao_Paulo:20200617T220000
DTSTAMP:20260425T231650
CREATED:20200604T144133Z
LAST-MODIFIED:20200604T144133Z
UID:13927-1592424000-1592431200@agendadovinho.com.br
SUMMARY:CONFRARIA DO ZÉ NA TROINA 3º ENCONTRO
DESCRIPTION:CURSO DE VINHOS ONLINE GRATUITO!\nDIA 17/06/2020 ÀS 20H!\nFAÇA PARTE DA CONFRARIA DO ZÉ NA TROINA\nLINK DO EVENTO ESTARÁ NO INSTAGRAM! \n
URL:https://agendadovinho.com.br/event/confraria-do-ze-na-troina-3o-encontro/
LOCATION:Vídeo conferência
CATEGORIES:Curso técnico,Online
ATTACH;FMTTYPE=image/jpeg:https://agendadovinho.com.br/wp-content/uploads/2020/06/3ENCONTRO.jpeg
END:VEVENT
END:VCALENDAR