BEGIN:VCALENDAR
VERSION:2.0
PRODID:-//Agenda do Vinho - ECPv4.9.0//NONSGML v1.0//EN
CALSCALE:GREGORIAN
METHOD:PUBLISH
X-WR-CALNAME:Agenda do Vinho
X-ORIGINAL-URL:https://agendadovinho.com.br
X-WR-CALDESC:Eventos para Agenda do Vinho
BEGIN:VEVENT
DTSTART;TZID=America/Sao_Paulo:20200320T200000
DTEND;TZID=America/Sao_Paulo:20200320T230000
DTSTAMP:20260425T183326
CREATED:20200309T152740Z
LAST-MODIFIED:20200309T152740Z
UID:11929-1584734400-1584745200@agendadovinho.com.br
SUMMARY:Confraria de Vinho com Jantar Harmonizado
DESCRIPTION:\nData: Sexta-feira\, 20 de março 2020\nLocal e Horário: Toribinha Bar & Fondue – 20h\nSerão degustados os seguintes vinhos:\n1 – Franciacorta Cuvée Royale \n2 – Orvieto Clássico Campogrande \n3 – Occheti Nebbiolo D’Alba \n4 – Torcicoda Primitivo Salento \n5 – Il Bruciato \n6 – Tignanello \n\nJantar harmonizado:\nEntrada: Mini de panini de salmão defumado com salada de mini rúcula radichio e tomate cereja \nIntermediário: Espaguete carbonara e Risoto negro com queijo brie \nPrincipal: \n\nLula grelhada recheada com shitake e queijo ao molho pomodoro\nCarré de cordeiro grelhado regado ao molho de hortelã guarmecido com ratatuille\n\nSobremesa: Tiramisù \n\nValor: R$ 230\,00/pessoa\nVagas Limitadas: máximo de 20 pessoas\nPromoção: Após o evento os vinhos degustados poderão ser adquiridos por um valor promocional.\nSorteio: Os participantes ganharão brindes e será sorteada uma garrafa de vinho.\n\n
URL:https://agendadovinho.com.br/event/confraria-de-vinho-com-jantar-harmonizado/
LOCATION:Toribinha Bar & Fondue\, Avenida Ernesto Diedericksen\, 2962 - Zona Rural\, Campos do Jordão\, SP\, 12460-000\, Brasil
CATEGORIES:Jantar harmonizado,SP - Demais cidades
ATTACH;FMTTYPE=image/png:https://agendadovinho.com.br/wp-content/uploads/2020/03/2.png
END:VEVENT
END:VCALENDAR