BEGIN:VCALENDAR
VERSION:2.0
PRODID:-//Agenda do Vinho - ECPv4.9.0//NONSGML v1.0//EN
CALSCALE:GREGORIAN
METHOD:PUBLISH
X-WR-CALNAME:Agenda do Vinho
X-ORIGINAL-URL:https://agendadovinho.com.br
X-WR-CALDESC:Eventos para Agenda do Vinho
BEGIN:VEVENT
DTSTART;TZID=UTC-3:20190430T193000
DTEND;TZID=UTC-3:20190430T230000
DTSTAMP:20260419T212741
CREATED:20190422T202013Z
LAST-MODIFIED:20190422T202052Z
UID:2375-1556652600-1556665200@agendadovinho.com.br
SUMMARY:Confraria Amigas do Vinho RS
DESCRIPTION:DESCRIÇÃO DO EVENTO\nEncontro da Confraria Amigas do Vinho RS. \nUma confraria nacional\, filiada a FEBAVE – Federação Brasileira de Confrarias e Associações Femininas do Vinho e do Espumante que proporciona encontros entre mulheres que apreciam vinhos\, de forma moderada\, lúdica\, descontraída\, com aprendizado e proporcionando a prática de networking. \nSOBRE O MENU: \nBoas vindas \n*Pães\, Grissini\, queijos e patês \n* Caponata \n* Espumantes \nDegustação especial \n* Entrada: \nSalada  mix de folhas e castanhas \n* Vinho Branco \n* Principal: \nCreme de Moranga com crispis de bacon \nVinho Tinto \nSobremesa: \n* Mini trufas \n* Espumante \nDegustação às cegas e após apresentação dos Produtos pela Vinícola parceira do Evento. \nFaça parte deste time e garanta seu ingresso! Tim Tim \n
URL:https://agendadovinho.com.br/event/confraria-amigas-do-vinho-rs/
LOCATION:Av. Alberto Bins\, 514\, Av. Alberto Bins\, 514\, Porto Alegre\, RS\, Brasil
CATEGORIES:Jantar harmonizado,RS - Porto Alegre
ATTACH;FMTTYPE=image/jpeg:https://agendadovinho.com.br/wp-content/uploads/2019/04/amigas-do-vinho-e1556067752490.jpg
END:VEVENT
END:VCALENDAR