BEGIN:VCALENDAR
VERSION:2.0
PRODID:-//Agenda do Vinho - ECPv4.9.0//NONSGML v1.0//EN
CALSCALE:GREGORIAN
METHOD:PUBLISH
X-WR-CALNAME:Agenda do Vinho
X-ORIGINAL-URL:https://agendadovinho.com.br
X-WR-CALDESC:Eventos para Agenda do Vinho
BEGIN:VEVENT
DTSTART;TZID=America/Sao_Paulo:20190627T190000
DTEND;TZID=America/Sao_Paulo:20190627T230000
DTSTAMP:20260419T181105
CREATED:20190522T160821Z
LAST-MODIFIED:20190522T160821Z
UID:3966-1561662000-1561676400@agendadovinho.com.br
SUMMARY:Confraria Amigas do Vinho RS
DESCRIPTION:A Confraria Amigas do Vinho: foi fundada no dia 2 de agosto de 2003 pela Presidente Nacional Maria Lúcia Rodrigues\, com sede no Rio de Janeiro/RJ. \nÉ uma confraria nacional\, filiada a FEBAVE – Federação Brasileira de Confrarias e Associações Femininas do Vinho e do Espumante que proporciona encontros entre mulheres que apreciam vinhos\, de forma moderada\, lúdica\, descontraída\, com aprendizado e proporcionando a prática de networking. \nSomos a maior confraria feminina do planeta! Com aproximadamente 9.000 confreiras espalhadas por esse maravilhoso Brasil. \nAlguns estados como São Paulo\, Paraná\, Brasília e Goiás já têm sua “Seção Estadual” capitaneada por mulheres com a mesma filosofia de degustar bons vinhos e praticar o intercâmbio profissional e social. \nInaugurada em Fevereiro de 2019 a Confraria Amigas do Vinho Seção Rio Grande do Sul na qual a Bacharel em Turismo e Sommelière Camila Quinteros foi empossada como Presidente com a missão de proporcionar bons encontros com eventos relacionados à enologia\, enogastronomia\, enoturismo e afins. \nA Confraria Amigas do Vinho não é comercial\, pois não cobra taxa de adesão\, manutenção e anuidade de suas confreiras. \nBasta se cadastrar no site: www.amigasdovinho.com.br e desfrutar dos eventos… \n* Lembrando que só é permitida a adesão de mulheres e acima de 18 anos/idade. \nFaça parte deste time! \n
URL:https://agendadovinho.com.br/event/confraria-amigas-do-vinho-rs-2/
LOCATION:Champanharia 690\, Rua Duque de Caxias\, 690\, Centro Histórico de Porto Alegre\, Porto Alegre\, RS\, Brasil
CATEGORIES:Outros,RS - Porto Alegre
ATTACH;FMTTYPE=image/jpeg:https://agendadovinho.com.br/wp-content/uploads/2019/05/amigas-do-vinho_270619.jpg
END:VEVENT
END:VCALENDAR