BEGIN:VCALENDAR
VERSION:2.0
PRODID:-//Agenda do Vinho - ECPv4.9.0//NONSGML v1.0//EN
CALSCALE:GREGORIAN
METHOD:PUBLISH
X-WR-CALNAME:Agenda do Vinho
X-ORIGINAL-URL:https://agendadovinho.com.br
X-WR-CALDESC:Eventos para Agenda do Vinho
BEGIN:VEVENT
DTSTART;TZID=America/Sao_Paulo:20200625T190000
DTEND;TZID=America/Sao_Paulo:20200625T190000
DTSTAMP:20260425T133149
CREATED:20200625T152106Z
LAST-MODIFIED:20200625T152106Z
UID:14553-1593111600-1593111600@agendadovinho.com.br
SUMMARY:Como ficará a comunicação do vinho?
DESCRIPTION:25/06 – 19h \n
URL:https://agendadovinho.com.br/event/como-ficara-a-comunicacao-do-vinho/
LOCATION:Instagram
CATEGORIES:Curso técnico,Online
ATTACH;FMTTYPE=image/jpeg:https://agendadovinho.com.br/wp-content/uploads/2020/06/gabigarelli_250620.jpg
END:VEVENT
END:VCALENDAR