BEGIN:VCALENDAR
VERSION:2.0
PRODID:-//Agenda do Vinho - ECPv4.9.0//NONSGML v1.0//EN
CALSCALE:GREGORIAN
METHOD:PUBLISH
X-WR-CALNAME:Agenda do Vinho
X-ORIGINAL-URL:https://agendadovinho.com.br
X-WR-CALDESC:Eventos para Agenda do Vinho
BEGIN:VEVENT
DTSTART;TZID=America/Sao_Paulo:20200423T193000
DTEND;TZID=America/Sao_Paulo:20200423T193000
DTSTAMP:20260426T040049
CREATED:20200423T150005Z
LAST-MODIFIED:20200423T150005Z
UID:12800-1587670200-1587670200@agendadovinho.com.br
SUMMARY:Como entender o meu gosto?
DESCRIPTION:Umas das maiores questões para quem está começando no vinho é compreender o próprio gosto! “Quais são as principais características de cada uva? O que mais me agrada em um vinho? Acidez me incomoda ou me agrada? E os taninos?” “Descobri que gosto de um determinado vinho e tenho receio de experimentar outros estilos e não gostar tanto!” Já passou por alguma destas dúvidas? \n
URL:https://agendadovinho.com.br/event/como-entender-o-meu-gosto/
LOCATION:Instagram
CATEGORIES:Curso técnico,Online
ATTACH;FMTTYPE=image/jpeg:https://agendadovinho.com.br/wp-content/uploads/2020/04/alexandretakei_230420.jpg
END:VEVENT
END:VCALENDAR