BEGIN:VCALENDAR
VERSION:2.0
PRODID:-//Agenda do Vinho - ECPv4.9.0//NONSGML v1.0//EN
CALSCALE:GREGORIAN
METHOD:PUBLISH
X-WR-CALNAME:Agenda do Vinho
X-ORIGINAL-URL:https://agendadovinho.com.br
X-WR-CALDESC:Eventos para Agenda do Vinho
BEGIN:VEVENT
DTSTART;TZID=America/Sao_Paulo:20210121T190000
DTEND;TZID=America/Sao_Paulo:20210121T190000
DTSTAMP:20260423T062805
CREATED:20210119T181443Z
LAST-MODIFIED:20210119T181443Z
UID:17115-1611255600-1611255600@agendadovinho.com.br
SUMMARY:Como comprar vinhos
DESCRIPTION:21/jan – 19:00 \n
URL:https://agendadovinho.com.br/event/como-comprar-vinhos/
LOCATION:Vídeo conferência
CATEGORIES:Curso técnico,Online
ATTACH;FMTTYPE=image/jpeg:https://agendadovinho.com.br/wp-content/uploads/2021/01/turmadovinho_210121.jpg
END:VEVENT
END:VCALENDAR