BEGIN:VCALENDAR
VERSION:2.0
PRODID:-//Agenda do Vinho - ECPv4.9.0//NONSGML v1.0//EN
CALSCALE:GREGORIAN
METHOD:PUBLISH
X-WR-CALNAME:Agenda do Vinho
X-ORIGINAL-URL:https://agendadovinho.com.br
X-WR-CALDESC:Eventos para Agenda do Vinho
BEGIN:VEVENT
DTSTART;TZID=America/Sao_Paulo:20200601T190000
DTEND;TZID=America/Sao_Paulo:20200601T190000
DTSTAMP:20260426T005257
CREATED:20200531T162115Z
LAST-MODIFIED:20200531T162115Z
UID:13826-1591038000-1591038000@agendadovinho.com.br
SUMMARY:Clubes de Vinhos - Winetclub
DESCRIPTION:01/06 – 19h \n
URL:https://agendadovinho.com.br/event/clubes-de-vinhos-winetclub/
LOCATION:Instagram
CATEGORIES:Curso técnico,Online
ATTACH;FMTTYPE=image/jpeg:https://agendadovinho.com.br/wp-content/uploads/2020/05/vinhosdecorte_010620.jpg
END:VEVENT
END:VCALENDAR