BEGIN:VCALENDAR
VERSION:2.0
PRODID:-//Agenda do Vinho - ECPv4.9.0//NONSGML v1.0//EN
CALSCALE:GREGORIAN
METHOD:PUBLISH
X-WR-CALNAME:Agenda do Vinho
X-ORIGINAL-URL:https://agendadovinho.com.br
X-WR-CALDESC:Eventos para Agenda do Vinho
BEGIN:VEVENT
DTSTART;TZID=America/Sao_Paulo:20200525T193000
DTEND;TZID=America/Sao_Paulo:20200525T193000
DTSTAMP:20260426T040238
CREATED:20200525T180747Z
LAST-MODIFIED:20200525T180747Z
UID:13680-1590435000-1590435000@agendadovinho.com.br
SUMMARY:Clubes de vinhos - Sociedade da Mesa
DESCRIPTION:25/05 – 19:30 \n
URL:https://agendadovinho.com.br/event/clubes-de-vinhos-sociedade-da-mesa/
LOCATION:Instagram
CATEGORIES:Curso técnico,Online
ATTACH;FMTTYPE=image/jpeg:https://agendadovinho.com.br/wp-content/uploads/2020/05/vinhosdecorte_250520.jpg
END:VEVENT
END:VCALENDAR