BEGIN:VCALENDAR
VERSION:2.0
PRODID:-//Agenda do Vinho - ECPv4.9.0//NONSGML v1.0//EN
CALSCALE:GREGORIAN
METHOD:PUBLISH
X-WR-CALNAME:Agenda do Vinho
X-ORIGINAL-URL:https://agendadovinho.com.br
X-WR-CALDESC:Eventos para Agenda do Vinho
BEGIN:VEVENT
DTSTART;TZID=America/Sao_Paulo:20200327T193000
DTEND;TZID=America/Sao_Paulo:20200327T213000
DTSTAMP:20260425T183432
CREATED:20200229T192321Z
LAST-MODIFIED:20200229T192321Z
UID:11595-1585337400-1585344600@agendadovinho.com.br
SUMMARY:CLUBE DO VINHO: VINHO X CARVALHO
DESCRIPTION:Horário: 19:30 às 21:30 (La Scuola Di Eataly – 1º andar) \nRÓTULOS: \n– Primitivo di Manduria I Pupi \n  \n-Dolcetto dalba Fontanafredda \n  \n-Gavi di comuna di Gavi Fontanafredda \n  \n-SOAVE CLÁSSICO Fratelli ZENI \n*Vinhos harmonizados com queijos e embutidos \nImportadora: Bruck \nSOBRE O CURSO: \nFormato da aula: Aula show \nO curso ”Clube do vinho” é a porta de entrada nesse fascinante mundo\, o mais abrangente e completo curso de introdução ao mundo do vinho. \nCurso especialmente formatado para leigos ou amadores que desejam ampliar seus conhecimentos sobre o assunto. \nSOBRE O SOMMELIER: \nJonas Benedito é Sommelier há sete anos\, com experiência em restaurantes e atendimento personalizado. Formado pela Sommelier School\, Formado em nível 1 e 2 pela ISG (International Sommelier Guild) EUA. Professor homologado há 2 anos de ambas instituições. \nINCLUSO: \nDegustação dos pratos\, certificado de participação e apostila. \nPara participar dos nossos cursos não é necessário conhecimento prévio em gastronomia. \nAcomodação dos alunos em cada cadeira será efetuada por ordem de chegada. \n
URL:https://agendadovinho.com.br/event/clube-do-vinho-vinho-x-carvalho/
LOCATION:Eataly\, Avenida Presidente Juscelino Kubitschek\, 1489\, São Paulo\, SP\, Brasil
CATEGORIES:Curso técnico,SP - São Paulo
ATTACH;FMTTYPE=image/jpeg:https://agendadovinho.com.br/wp-content/uploads/2020/02/clube-do-vinho_270320.jpg
END:VEVENT
END:VCALENDAR