BEGIN:VCALENDAR
VERSION:2.0
PRODID:-//Agenda do Vinho - ECPv4.9.0//NONSGML v1.0//EN
CALSCALE:GREGORIAN
METHOD:PUBLISH
X-WR-CALNAME:Agenda do Vinho
X-ORIGINAL-URL:https://agendadovinho.com.br
X-WR-CALDESC:Eventos para Agenda do Vinho
BEGIN:VEVENT
DTSTART;TZID=America/Sao_Paulo:20200130T193000
DTEND;TZID=America/Sao_Paulo:20200130T193000
DTSTAMP:20260425T234210
CREATED:20191217T173551Z
LAST-MODIFIED:20191217T173551Z
UID:10323-1580412600-1580412600@agendadovinho.com.br
SUMMARY:CLUBE DO VINHO: OS SEGREDOS DA HARMONIZAÇÃO
DESCRIPTION:Horário: 19:30 às 21:30 (La Scuola Di Eataly – 1º andar) \nRÓTULOS: \n– Gavi del comune di Gavi (Branco) \n– Giolí langhe bianco (Branco) \n– Solerose rosato (Rose) \n– Dolcetto treiso Fontanafredda (Tinto) \n*Vinhos harmonizados com queijos e embutidos \nImportadora: Bruck \nSOBRE O CURSO: \nFormato da aula: Aula show \nO curso ”Clube do vinho” é a porta de entrada nesse fascinante mundo\, o mais abrangente e completo curso de introdução ao mundo do vinho. \nCurso especialmente formatado para leigos ou amadores que desejam ampliar seus conhecimentos sobre o assunto. \nSOBRE O SOMMELIER: \nJonas Benedito é Sommelier há sete anos\, com experiência em restaurantes e atendimento personalizado. Formado pela Sommelier School\, Formado em nível 1 e 2 pela ISG (International Sommelier Guild) EUA. Professor homologado há 2 anos de ambas instituições. \nINCLUSO: \nDegustação dos pratos\, certificado de participação e apostila. \nPara participar dos cursos não é necessário conhecimento prévio em gastronomia. \nAcomodação dos alunos em cada cadeira será efetuada por ordem de chegada. \n
URL:https://agendadovinho.com.br/event/clube-do-vinho-os-segredos-da-harmonizacao-2/
LOCATION:Eataly\, Avenida Presidente Juscelino Kubitschek\, 1489\, São Paulo\, SP\, Brasil
CATEGORIES:Curso técnico,SP - São Paulo
ATTACH;FMTTYPE=image/jpeg:https://agendadovinho.com.br/wp-content/uploads/2019/12/clube-do-vinho_300120.jpg
END:VEVENT
END:VCALENDAR