BEGIN:VCALENDAR
VERSION:2.0
PRODID:-//Agenda do Vinho - ECPv4.9.0//NONSGML v1.0//EN
CALSCALE:GREGORIAN
METHOD:PUBLISH
X-WR-CALNAME:Agenda do Vinho
X-ORIGINAL-URL:https://agendadovinho.com.br
X-WR-CALDESC:Eventos para Agenda do Vinho
BEGIN:VEVENT
DTSTART;TZID=America/Sao_Paulo:20200619T190000
DTEND;TZID=America/Sao_Paulo:20200619T190000
DTSTAMP:20260426T004942
CREATED:20200619T154010Z
LAST-MODIFIED:20200619T154010Z
UID:14361-1592593200-1592593200@agendadovinho.com.br
SUMMARY:Chile - Vale do Maipo
DESCRIPTION:19/06 – 19h \n
URL:https://agendadovinho.com.br/event/chile-vale-do-maipo/
LOCATION:Instagram
CATEGORIES:Curso técnico,Online
ATTACH;FMTTYPE=image/jpeg:https://agendadovinho.com.br/wp-content/uploads/2020/06/abs_sp_190620.jpg
END:VEVENT
END:VCALENDAR