BEGIN:VCALENDAR
VERSION:2.0
PRODID:-//Agenda do Vinho - ECPv4.9.0//NONSGML v1.0//EN
CALSCALE:GREGORIAN
METHOD:PUBLISH
X-WR-CALNAME:Agenda do Vinho
X-ORIGINAL-URL:https://agendadovinho.com.br
X-WR-CALDESC:Eventos para Agenda do Vinho
BEGIN:VEVENT
DTSTART;TZID=America/Sao_Paulo:20191123T120000
DTEND;TZID=America/Sao_Paulo:20191123T160000
DTSTAMP:20260426T031053
CREATED:20191111T230546Z
LAST-MODIFIED:20191111T230546Z
UID:9642-1574510400-1574524800@agendadovinho.com.br
SUMMARY:Chef Perin convida para lançamento dos novos rótulos da Weinkeller
DESCRIPTION:CHEF PERIN convida para o lançamento dos novos rótulos da Weinkeller\, harmonizados com petiscos de linguiças artesanais\, no sábado\, 23 de novembro das 12h as 16h.\nInformações e reservas:\ncomercial@weinkeller.com.br | tel 11 4114-6789 | Whatsapp 11 95218-0145\nIngresso: R$ 60 – 100% revertido na compra de vinhos.\nSão apenas 30 vagas\, garanta a sua! \n
URL:https://agendadovinho.com.br/event/chef-perin-convida-para-lancamento-dos-novos-rotulos-da-weinkeller/
LOCATION:Viking Concept\, Alameda Gabriel Monteiro da Silva\, 1847 - Jardim America\, São Paulo\, SP\, 01441-002\, Brasil
CATEGORIES:Degustação,SP - São Paulo
ATTACH;FMTTYPE=image/jpeg:https://agendadovinho.com.br/wp-content/uploads/2019/11/weinkeller_231119.jpg
END:VEVENT
END:VCALENDAR