BEGIN:VCALENDAR
VERSION:2.0
PRODID:-//Agenda do Vinho - ECPv4.9.0//NONSGML v1.0//EN
CALSCALE:GREGORIAN
METHOD:PUBLISH
X-WR-CALNAME:Agenda do Vinho
X-ORIGINAL-URL:https://agendadovinho.com.br
X-WR-CALDESC:Eventos para Agenda do Vinho
BEGIN:VEVENT
DTSTART;TZID=America/Sao_Paulo:20200414T190000
DTEND;TZID=America/Sao_Paulo:20200414T190000
DTSTAMP:20260426T040314
CREATED:20200413T145124Z
LAST-MODIFIED:20200623T164632Z
UID:12477-1586890800-1586890800@agendadovinho.com.br
SUMMARY:Chandon: a história\, o charme\, os aromas e os sabores
DESCRIPTION:Quando o assunto é espumante\, todos concordam: poucas bebidas no mundo são fonte de tanto prazer. E nesta terça-feira\, dia 14/04\, às 19h\, @davinha_aovinho receberá @comvinho para um bate-papo com muita informação e borbulhas\, claro. Falarão de @chandonbrasil 🥂. A Chandon é referência no mercado de espumantes e\, no Brasil\, encontra-se entre os mais consumidos. François vai nos contar tudinho sobre os segredos dessa maravilha borbulhante. \n
URL:https://agendadovinho.com.br/event/chandon-a-historia-o-charme-os-aromas-e-os-sabores/
LOCATION:Instagram
CATEGORIES:Curso técnico,Online
ATTACH;FMTTYPE=image/jpeg:https://agendadovinho.com.br/wp-content/uploads/2020/04/davinha_aovinho_140420.jpg
END:VEVENT
END:VCALENDAR