BEGIN:VCALENDAR
VERSION:2.0
PRODID:-//Agenda do Vinho - ECPv4.9.0//NONSGML v1.0//EN
CALSCALE:GREGORIAN
METHOD:PUBLISH
X-WR-CALNAME:Agenda do Vinho
X-ORIGINAL-URL:https://agendadovinho.com.br
X-WR-CALDESC:Eventos para Agenda do Vinho
BEGIN:VEVENT
DTSTART;TZID=America/Sao_Paulo:20200512T170000
DTEND;TZID=America/Sao_Paulo:20200512T170000
DTSTAMP:20260426T022901
CREATED:20200512T192705Z
LAST-MODIFIED:20200512T192705Z
UID:13384-1589302800-1589302800@agendadovinho.com.br
SUMMARY:Champagne: desafios para a sustentabilidade
DESCRIPTION:12/05 – 17h \n
URL:https://agendadovinho.com.br/event/champagne-desafios-para-a-sustentabilidade/
LOCATION:Instagram
CATEGORIES:Curso técnico,Online
ATTACH;FMTTYPE=image/jpeg:https://agendadovinho.com.br/wp-content/uploads/2020/05/eno_cultura_120520.jpg
END:VEVENT
END:VCALENDAR