BEGIN:VCALENDAR
VERSION:2.0
PRODID:-//Agenda do Vinho - ECPv4.9.0//NONSGML v1.0//EN
CALSCALE:GREGORIAN
METHOD:PUBLISH
X-WR-CALNAME:Agenda do Vinho
X-ORIGINAL-URL:https://agendadovinho.com.br
X-WR-CALDESC:Eventos para Agenda do Vinho
BEGIN:VEVENT
DTSTART;TZID=America/Sao_Paulo:20200729T190000
DTEND;TZID=America/Sao_Paulo:20200729T190000
DTSTAMP:20260425T153123
CREATED:20200728T160057Z
LAST-MODIFIED:20200728T160057Z
UID:15327-1596049200-1596049200@agendadovinho.com.br
SUMMARY:CAVE MESSIAS/ PORTUGAL - 90 ANOS DE HISTÓRIA
DESCRIPTION:29/jul – 19:00 \n
URL:https://agendadovinho.com.br/event/cave-messias-portugal-90-anos-de-historia/
LOCATION:Instagram
CATEGORIES:Curso técnico,Online
ATTACH;FMTTYPE=image/jpeg:https://agendadovinho.com.br/wp-content/uploads/2020/07/luciano_contarini_290720.jpg
END:VEVENT
END:VCALENDAR