BEGIN:VCALENDAR
VERSION:2.0
PRODID:-//Agenda do Vinho - ECPv4.9.0//NONSGML v1.0//EN
CALSCALE:GREGORIAN
METHOD:PUBLISH
X-WR-CALNAME:Agenda do Vinho
X-ORIGINAL-URL:https://agendadovinho.com.br
X-WR-CALDESC:Eventos para Agenda do Vinho
BEGIN:VEVENT
DTSTART;TZID=America/Sao_Paulo:20200422T200000
DTEND;TZID=America/Sao_Paulo:20200422T200000
DTSTAMP:20260426T035642
CREATED:20200422T185415Z
LAST-MODIFIED:20200422T185415Z
UID:12784-1587585600-1587585600@agendadovinho.com.br
SUMMARY:Castilla y Leon
DESCRIPTION:Umas das regiões mais importantes da Espanha 🇪🇸 (Casa do Vega Sicilia Unico) entre outros … \n
URL:https://agendadovinho.com.br/event/castilla-y-leon/
LOCATION:Instagram
CATEGORIES:Curso técnico,Online
ATTACH;FMTTYPE=image/jpeg:https://agendadovinho.com.br/wp-content/uploads/2020/04/abs_campinas_220420.jpg
END:VEVENT
END:VCALENDAR