BEGIN:VCALENDAR
VERSION:2.0
PRODID:-//Agenda do Vinho - ECPv4.9.0//NONSGML v1.0//EN
CALSCALE:GREGORIAN
METHOD:PUBLISH
X-WR-CALNAME:Agenda do Vinho
X-ORIGINAL-URL:https://agendadovinho.com.br
X-WR-CALDESC:Eventos para Agenda do Vinho
BEGIN:VEVENT
DTSTART;TZID=America/Sao_Paulo:20200825T200000
DTEND;TZID=America/Sao_Paulo:20200825T200000
DTSTAMP:20260423T062713
CREATED:20200811T151059Z
LAST-MODIFIED:20200811T151223Z
UID:15575-1598385600-1598385600@agendadovinho.com.br
SUMMARY:Castas francesas
DESCRIPTION:25/ago – 20:00 \n
URL:https://agendadovinho.com.br/event/castas-francesas/
LOCATION:Vídeo conferência
CATEGORIES:Curso técnico,Online
ATTACH;FMTTYPE=image/jpeg:https://agendadovinho.com.br/wp-content/uploads/2020/08/duvalewinetasting_250820.jpg
END:VEVENT
END:VCALENDAR