BEGIN:VCALENDAR
VERSION:2.0
PRODID:-//Agenda do Vinho - ECPv4.9.0//NONSGML v1.0//EN
CALSCALE:GREGORIAN
METHOD:PUBLISH
X-WR-CALNAME:Agenda do Vinho
X-ORIGINAL-URL:https://agendadovinho.com.br
X-WR-CALDESC:Eventos para Agenda do Vinho
BEGIN:VEVENT
DTSTART;TZID=America/Sao_Paulo:20200430T200000
DTEND;TZID=America/Sao_Paulo:20200430T200000
DTSTAMP:20260426T022741
CREATED:20200430T145510Z
LAST-MODIFIED:20200430T145510Z
UID:13013-1588276800-1588276800@agendadovinho.com.br
SUMMARY:Castas exóticas na Argentina
DESCRIPTION:Dia 30\, às 20:00h\, com @diegoarrebola. \n
URL:https://agendadovinho.com.br/event/castas-exoticas-na-argentina/
LOCATION:Instagram
CATEGORIES:Curso técnico,Online
ATTACH;FMTTYPE=image/jpeg:https://agendadovinho.com.br/wp-content/uploads/2020/04/totalvinhos_300420.jpg
END:VEVENT
END:VCALENDAR