BEGIN:VCALENDAR
VERSION:2.0
PRODID:-//Agenda do Vinho - ECPv4.9.0//NONSGML v1.0//EN
CALSCALE:GREGORIAN
METHOD:PUBLISH
X-WR-CALNAME:Agenda do Vinho
X-ORIGINAL-URL:https://agendadovinho.com.br
X-WR-CALDESC:Eventos para Agenda do Vinho
BEGIN:VEVENT
DTSTART;TZID=America/Sao_Paulo:20200903T193000
DTEND;TZID=America/Sao_Paulo:20200903T193000
DTSTAMP:20260425T151146
CREATED:20200903T204222Z
LAST-MODIFIED:20200903T204222Z
UID:15828-1599161400-1599161400@agendadovinho.com.br
SUMMARY:Casa Valduga
DESCRIPTION:03/set – 19:30 \n
URL:https://agendadovinho.com.br/event/casa-valduga/
LOCATION:Instagram
CATEGORIES:Curso técnico,Online
ATTACH;FMTTYPE=image/jpeg:https://agendadovinho.com.br/wp-content/uploads/2020/09/danielmistico_030920.jpg
END:VEVENT
END:VCALENDAR