BEGIN:VCALENDAR
VERSION:2.0
PRODID:-//Agenda do Vinho - ECPv4.9.0//NONSGML v1.0//EN
CALSCALE:GREGORIAN
METHOD:PUBLISH
X-WR-CALNAME:Agenda do Vinho
X-ORIGINAL-URL:https://agendadovinho.com.br
X-WR-CALDESC:Eventos para Agenda do Vinho
BEGIN:VEVENT
DTSTART;TZID=America/Sao_Paulo:20200501T170000
DTEND;TZID=America/Sao_Paulo:20200501T170000
DTSTAMP:20260426T004704
CREATED:20200428T160922Z
LAST-MODIFIED:20200428T160922Z
UID:12935-1588352400-1588352400@agendadovinho.com.br
SUMMARY:Casa Relvas
DESCRIPTION:A LIVE de sexta-feira (01/05) da @adegadasonzeserá diretamente de Portugal e por causa do fuso um pouco mais cedo. O convidado será Alexandre Relvas CEO da @casarelvas . Não perca! 🍷🍷 \n
URL:https://agendadovinho.com.br/event/casa-relvas/
LOCATION:Instagram
CATEGORIES:Curso técnico,Online
ATTACH;FMTTYPE=image/jpeg:https://agendadovinho.com.br/wp-content/uploads/2020/04/adegadasonze_010520.jpg
END:VEVENT
END:VCALENDAR