BEGIN:VCALENDAR
VERSION:2.0
PRODID:-//Agenda do Vinho - ECPv4.9.0//NONSGML v1.0//EN
CALSCALE:GREGORIAN
METHOD:PUBLISH
X-WR-CALNAME:Agenda do Vinho
X-ORIGINAL-URL:https://agendadovinho.com.br
X-WR-CALDESC:Eventos para Agenda do Vinho
BEGIN:VEVENT
DTSTART;TZID=America/Sao_Paulo:20200416T200000
DTEND;TZID=America/Sao_Paulo:20200416T200000
DTSTAMP:20260425T185750
CREATED:20200414T150549Z
LAST-MODIFIED:20200414T150549Z
UID:12502-1587067200-1587067200@agendadovinho.com.br
SUMMARY:Casa Geraldo
DESCRIPTION:Nesta quinta-feira (16.04) às 20h\, a @confidemus_vinhos fará sua 1° LIVE! \n
URL:https://agendadovinho.com.br/event/casa-geraldo/
LOCATION:Instagram
CATEGORIES:Curso técnico,Online
ATTACH;FMTTYPE=image/jpeg:https://agendadovinho.com.br/wp-content/uploads/2020/04/confidemus_vinhos_160420.jpg
END:VEVENT
END:VCALENDAR