BEGIN:VCALENDAR
VERSION:2.0
PRODID:-//Agenda do Vinho - ECPv4.9.0//NONSGML v1.0//EN
CALSCALE:GREGORIAN
METHOD:PUBLISH
X-WR-CALNAME:Agenda do Vinho
X-ORIGINAL-URL:https://agendadovinho.com.br
X-WR-CALDESC:Eventos para Agenda do Vinho
BEGIN:VEVENT
DTSTART;TZID=America/Sao_Paulo:20200222T103000
DTEND;TZID=America/Sao_Paulo:20200222T173000
DTSTAMP:20260425T215925
CREATED:20200130T162015Z
LAST-MODIFIED:20200217T214342Z
UID:10924-1582367400-1582392600@agendadovinho.com.br
SUMMARY:CARNAVAL DO BALACO BACO-OPEN WINE
DESCRIPTION:DAY USE- Casa do BALACO BACO- ano 2 \n(Sábado \, Domingo \, Segunda e Terça das 10:30 h às 17.30h) \nO primeiro DAY USE OPEN WINE&FOOD do Carnaval de Olinda! \nHomenageando Baco\, o Deus do Vinho\, da Ebriedade\, dos excessos\, e da Natureza! \nUm verdadeiro Oásis no Carnaval de Olinda\, Jardim tropical a beira- mar! \nPara abrilhantar ainda mais seu carnaval \, teremos self-service de Purpurinas e Make Designer. \nLojinha de Fantasias ( venda) \nPROGRAMAÇÃO MUSICAL do Lounge “Al Mare”: \nSábado : 11 às 13 30h: Duo Pretos e Brancos \n14 às 17:30h Samba do Carcará \nDomingo: 11 às 13 30h :Duo Pretos e Brancos \n14 às 17:30h : Novos Boêmios \nSegunda :11 às 13:30h: Duo Pretos e Brancos \n14 às 17:30h: Samba do Carcará \nTerça : 11 às 13:30h: Duo Pretos e Brancos \n14 às 17:30h: Novos Boêmios \nOPEN WINE: \n(*Vinho Branco Luigi Bosca La Linda ( Chardonnay\, Torrontès & Mucho Mas( Sauvignon Blanc) \, *Vinho Tinto La Linda ( Malbec) & Mucho Mas ( Carmenère)\, Vinho Rosè ClaudeVal (Francês) \,Espumante Bossa Hermman \, Prosecco) \n*Vinhos do porfólio da prestigiosa Importadora Decanter \nBebidas e Cerveja: \n(Água \, Refrigerante\, Caipiroscas\, Caipirinhas\, Chopp artesanal Ekaut Munich Helles) \nOPEN FOOD assinado pelo Chef Federido Sorrivas \n(Feijoada completa\,FINGER FOOD\,Comidinhas de Boteco\, Antipasti\, Carpaccio\, Bruschettas\, Opções Veganas\,Frutas frescas ) \nOBS: Cardápio especial de carnaval\, à la carte a partir das 17:30h \nESTRUTURA E SERVIÇOS OFERECIDOS: \n*Pulseiras e Taças personalizadas \n* Bar no Jardim à beira-mar \n*Segurança\, Garçons e Limpeza de Banheiro durante toda a duração do evento \n* Lounge “ Al Mare” ( Balcão Bar \, Mesinhas e Bancos Bistrot ) \n*Self Service de Purpurinas \n* Make Designer \n* Decoração de Carnaval \n* Lojinha de fantasias ( venda) \n————————————————————————————————————————————————————————————— \nCasa do Vinho “ Al Mare” \nRua Jenner de Sousa\,38 \nCarmo (Sítio Histórico) \nInfo: 081 997378016 | 081 34941180 \nINSTAGRAM:@casadovinho_almare \n
URL:https://agendadovinho.com.br/event/carnaval-do-balaco-baco-open-wine/
LOCATION:Casa do Vinho Al Mare\, Rua Jener de Sousa\, 38\, Carmo\, Olinda\, PE\, Brasil
CATEGORIES:Outros,PE - Demais cidades
ATTACH;FMTTYPE=image/png:https://agendadovinho.com.br/wp-content/uploads/2020/01/carnaval_220220.png
END:VEVENT
END:VCALENDAR