BEGIN:VCALENDAR
VERSION:2.0
PRODID:-//Agenda do Vinho - ECPv4.9.0//NONSGML v1.0//EN
CALSCALE:GREGORIAN
METHOD:PUBLISH
X-WR-CALNAME:Agenda do Vinho
X-ORIGINAL-URL:https://agendadovinho.com.br
X-WR-CALDESC:Eventos para Agenda do Vinho
BEGIN:VEVENT
DTSTART;TZID=America/Sao_Paulo:20200416T190000
DTEND;TZID=America/Sao_Paulo:20200416T190000
DTSTAMP:20260425T223311
CREATED:20200414T150920Z
LAST-MODIFIED:20200414T150920Z
UID:12506-1587063600-1587063600@agendadovinho.com.br
SUMMARY:Caliterra
DESCRIPTION:Conhece a Caliterra?? Não? Então essa é uma grande oportunidade de conhecer uma vinícola de qualidade e detalhes únicos!\nNesta quinta\, as 19h participe da live no insta com o sommelier chefe @eliton_sommelier e o enólogo da Caliterra @enologo_rodrigozamorano\nVocê não pode perder! \n
URL:https://agendadovinho.com.br/event/caliterra/
LOCATION:Instagram
CATEGORIES:Curso técnico,Online
ATTACH;FMTTYPE=image/jpeg:https://agendadovinho.com.br/wp-content/uploads/2020/04/vinhoeponto_franchising_160420.jpg
END:VEVENT
END:VCALENDAR