BEGIN:VCALENDAR
VERSION:2.0
PRODID:-//Agenda do Vinho - ECPv4.9.0//NONSGML v1.0//EN
CALSCALE:GREGORIAN
METHOD:PUBLISH
X-WR-CALNAME:Agenda do Vinho
X-ORIGINAL-URL:https://agendadovinho.com.br
X-WR-CALDESC:Eventos para Agenda do Vinho
BEGIN:VEVENT
DTSTART;TZID=America/Sao_Paulo:20200617T193000
DTEND;TZID=America/Sao_Paulo:20200617T193000
DTSTAMP:20260425T231046
CREATED:20200617T182513Z
LAST-MODIFIED:20200617T182513Z
UID:14289-1592422200-1592422200@agendadovinho.com.br
SUMMARY:Bordeaux
DESCRIPTION:17/06 – 19:30 \n
URL:https://agendadovinho.com.br/event/bordeaux/
LOCATION:Instagram
CATEGORIES:Curso técnico,Online
ATTACH;FMTTYPE=image/jpeg:https://agendadovinho.com.br/wp-content/uploads/2020/06/vinhoeponto_franchising_170620.jpg
END:VEVENT
END:VCALENDAR