BEGIN:VCALENDAR
VERSION:2.0
PRODID:-//Agenda do Vinho - ECPv4.9.0//NONSGML v1.0//EN
CALSCALE:GREGORIAN
METHOD:PUBLISH
X-WR-CALNAME:Agenda do Vinho
X-ORIGINAL-URL:https://agendadovinho.com.br
X-WR-CALDESC:Eventos para Agenda do Vinho
BEGIN:VEVENT
DTSTART;TZID=America/Sao_Paulo:20200617T150000
DTEND;TZID=America/Sao_Paulo:20200617T150000
DTSTAMP:20260426T022410
CREATED:20200617T182421Z
LAST-MODIFIED:20200617T182421Z
UID:14287-1592406000-1592406000@agendadovinho.com.br
SUMMARY:Blind Wine Challenge
DESCRIPTION:17/06 – 15h \n
URL:https://agendadovinho.com.br/event/blind-wine-challenge/
LOCATION:Instagram
CATEGORIES:Curso técnico,Online
ATTACH;FMTTYPE=image/jpeg:https://agendadovinho.com.br/wp-content/uploads/2020/06/diegoarrebola_170620.jpg
END:VEVENT
END:VCALENDAR