BEGIN:VCALENDAR
VERSION:2.0
PRODID:-//Agenda do Vinho - ECPv4.9.0//NONSGML v1.0//EN
CALSCALE:GREGORIAN
METHOD:PUBLISH
X-WR-CALNAME:Agenda do Vinho
X-ORIGINAL-URL:https://agendadovinho.com.br
X-WR-CALDESC:Eventos para Agenda do Vinho
BEGIN:VEVENT
DTSTART;TZID=America/Sao_Paulo:20200521T210000
DTEND;TZID=America/Sao_Paulo:20200521T210000
DTSTAMP:20260426T035819
CREATED:20200520T160728Z
LAST-MODIFIED:20200520T160728Z
UID:13560-1590094800-1590094800@agendadovinho.com.br
SUMMARY:Beabá dos Espumantes
DESCRIPTION:21/05 – 21h \n
URL:https://agendadovinho.com.br/event/beaba-dos-espumantes/
LOCATION:Instagram
CATEGORIES:Curso técnico,Online
ATTACH;FMTTYPE=image/jpeg:https://agendadovinho.com.br/wp-content/uploads/2020/05/ofinodovinho_210520.jpg
END:VEVENT
END:VCALENDAR