BEGIN:VCALENDAR
VERSION:2.0
PRODID:-//Agenda do Vinho - ECPv4.9.0//NONSGML v1.0//EN
CALSCALE:GREGORIAN
METHOD:PUBLISH
X-WR-CALNAME:Agenda do Vinho
X-ORIGINAL-URL:https://agendadovinho.com.br
X-WR-CALDESC:Eventos para Agenda do Vinho
BEGIN:VEVENT
DTSTART;TZID=America/Sao_Paulo:20200304T200000
DTEND;TZID=America/Sao_Paulo:20200304T230000
DTSTAMP:20260425T183903
CREATED:20200228T190941Z
LAST-MODIFIED:20200228T190941Z
UID:11514-1583352000-1583362800@agendadovinho.com.br
SUMMARY:Bate Papo sobre Vinhos Naturais c/ degustação Vinhas do Tempo
DESCRIPTION:Na inquieta busca por vinhos livres\, autênticos e sem manipulação\, nasce a Vinhas do Tempo\, um projeto que busca expressar em seus vinhos\, da maneira mais pura possível\, a relação entre o homem e a natureza. \nO foco não é quantidade\, mas sim a qualidade aliada a autenticidade\, por isso o projeto conta com parceiros que buscam o cultivo de uvas de extrema qualidade das principais regiões vitivinícolas do Brasil. Os vinhos são elaborados em escala artesanal\, resgatando práticas de vinificações ancestrais\, com fermentação espontânea\, sem filtração e estabilizados naturalmente\, preservando ao máximo seu caráter natural. São vinhos independentes\, que não seguem conceitos ou padrões preestabelecidos. \nA Vinhas do Tempo é a tentativa de elaborar e engarrafar algo puro\, que transmita ideais e que expresse\, de fato\, o que ocorreu naquele local e período\, bem como toda a liberdade que se sente ao fazer isso. \nNesse bate papo sobre vinhos naturais\, você experimentará 3 rótulos de vinhos tranquilos do produtor nacional Vinhas do Tempo: \n– Pinot Noir \n– Gamay \n– Chardonnay \n
URL:https://agendadovinho.com.br/event/bate-papo-sobre-vinhos-naturais-c-degustacao-vinhas-do-tempo/
LOCATION:Educação Líquida\, Rua Bahia\, 116\, Gonzaga\, Santos\, SP\, Brasil
CATEGORIES:Curso técnico,SP - Demais cidades
ATTACH;FMTTYPE=image/png:https://agendadovinho.com.br/wp-content/uploads/2020/02/vinhos-naturais_040320.png
END:VEVENT
END:VCALENDAR