BEGIN:VCALENDAR
VERSION:2.0
PRODID:-//Agenda do Vinho - ECPv4.9.0//NONSGML v1.0//EN
CALSCALE:GREGORIAN
METHOD:PUBLISH
X-WR-CALNAME:Agenda do Vinho
X-ORIGINAL-URL:https://agendadovinho.com.br
X-WR-CALDESC:Eventos para Agenda do Vinho
BEGIN:VEVENT
DTSTART;TZID=America/Sao_Paulo:20200429T200000
DTEND;TZID=America/Sao_Paulo:20200429T200000
DTSTAMP:20260426T022926
CREATED:20200429T144309Z
LAST-MODIFIED:20200429T144309Z
UID:12960-1588190400-1588190400@agendadovinho.com.br
SUMMARY:Bate-papo sobre vinhos brasileiros
DESCRIPTION:29/04\, às 20:00. \n
URL:https://agendadovinho.com.br/event/bate-papo-sobre-vinhos-brasileiros/
LOCATION:Instagram
CATEGORIES:Curso técnico,Online
ATTACH;FMTTYPE=image/jpeg:https://agendadovinho.com.br/wp-content/uploads/2020/04/vinhoseelas_290420.jpg
END:VEVENT
END:VCALENDAR