BEGIN:VCALENDAR
VERSION:2.0
PRODID:-//Agenda do Vinho - ECPv4.9.0//NONSGML v1.0//EN
CALSCALE:GREGORIAN
METHOD:PUBLISH
X-WR-CALNAME:Agenda do Vinho
X-ORIGINAL-URL:https://agendadovinho.com.br
X-WR-CALDESC:Eventos para Agenda do Vinho
BEGIN:VEVENT
DTSTART;TZID=America/Sao_Paulo:20200505T193000
DTEND;TZID=America/Sao_Paulo:20200505T193000
DTSTAMP:20260426T040323
CREATED:20200505T154607Z
LAST-MODIFIED:20200505T154607Z
UID:13123-1588707000-1588707000@agendadovinho.com.br
SUMMARY:Bate papo sobre o mundo dos vinhos
DESCRIPTION:05/05 – 19:30 \n
URL:https://agendadovinho.com.br/event/bate-papo-sobre-o-mundo-dos-vinhos/
LOCATION:Instagram
CATEGORIES:Curso técnico,Online
ATTACH;FMTTYPE=image/jpeg:https://agendadovinho.com.br/wp-content/uploads/2020/05/tudoevinho_050520.jpg
END:VEVENT
END:VCALENDAR