BEGIN:VCALENDAR
VERSION:2.0
PRODID:-//Agenda do Vinho - ECPv4.9.0//NONSGML v1.0//EN
CALSCALE:GREGORIAN
METHOD:PUBLISH
X-WR-CALNAME:Agenda do Vinho
X-ORIGINAL-URL:https://agendadovinho.com.br
X-WR-CALDESC:Eventos para Agenda do Vinho
BEGIN:VEVENT
DTSTART;TZID=America/Sao_Paulo:20200507T190000
DTEND;TZID=America/Sao_Paulo:20200507T190000
DTSTAMP:20260426T041148
CREATED:20200506T145824Z
LAST-MODIFIED:20200506T145824Z
UID:13211-1588878000-1588878000@agendadovinho.com.br
SUMMARY:Bate papo sobre a produção e curiosidades dos rótulos Afectus e Prova Cega
DESCRIPTION:07/05 – 19h. \n
URL:https://agendadovinho.com.br/event/bate-papo-sobre-a-producao-e-curiosidades-dos-rotulos-afectus-e-prova-cega/
LOCATION:Instagram
CATEGORIES:Curso técnico,Online
ATTACH;FMTTYPE=image/jpeg:https://agendadovinho.com.br/wp-content/uploads/2020/05/opportunityimports_070520.jpg
END:VEVENT
END:VCALENDAR