BEGIN:VCALENDAR
VERSION:2.0
PRODID:-//Agenda do Vinho - ECPv4.9.0//NONSGML v1.0//EN
CALSCALE:GREGORIAN
METHOD:PUBLISH
X-WR-CALNAME:Agenda do Vinho
X-ORIGINAL-URL:https://agendadovinho.com.br
X-WR-CALDESC:Eventos para Agenda do Vinho
BEGIN:VEVENT
DTSTART;TZID=America/Sao_Paulo:20200509T110000
DTEND;TZID=America/Sao_Paulo:20200509T110000
DTSTAMP:20260426T005024
CREATED:20200505T155701Z
LAST-MODIFIED:20200505T155701Z
UID:13163-1589022000-1589022000@agendadovinho.com.br
SUMMARY:Bate papo com produtor de Barbaresco
DESCRIPTION:09/05 – 11h. \n
URL:https://agendadovinho.com.br/event/bate-papo-com-produtor-de-barbaresco/
LOCATION:Instagram
CATEGORIES:Curso técnico,Online
ATTACH;FMTTYPE=image/jpeg:https://agendadovinho.com.br/wp-content/uploads/2020/05/watha_wine_090520.jpg
END:VEVENT
END:VCALENDAR