BEGIN:VCALENDAR
VERSION:2.0
PRODID:-//Agenda do Vinho - ECPv4.9.0//NONSGML v1.0//EN
CALSCALE:GREGORIAN
METHOD:PUBLISH
X-WR-CALNAME:Agenda do Vinho
X-ORIGINAL-URL:https://agendadovinho.com.br
X-WR-CALDESC:Eventos para Agenda do Vinho
BEGIN:VEVENT
DTSTART;TZID=America/Sao_Paulo:20200508T200000
DTEND;TZID=America/Sao_Paulo:20200508T200000
DTSTAMP:20260426T023040
CREATED:20200505T182415Z
LAST-MODIFIED:20200505T182415Z
UID:13180-1588968000-1588968000@agendadovinho.com.br
SUMMARY:Bate papo com os produtores do vinho Viajeinovinho Merlot
DESCRIPTION:08/05 – 20h. \n
URL:https://agendadovinho.com.br/event/bate-papo-com-os-produtores-do-vinho-viajeinovinho-merlot/
LOCATION:Instagram
CATEGORIES:Curso técnico,Online
ATTACH;FMTTYPE=image/jpeg:https://agendadovinho.com.br/wp-content/uploads/2020/05/viajeinovinho_080520.jpg
END:VEVENT
END:VCALENDAR