BEGIN:VCALENDAR
VERSION:2.0
PRODID:-//Agenda do Vinho - ECPv4.9.0//NONSGML v1.0//EN
CALSCALE:GREGORIAN
METHOD:PUBLISH
X-WR-CALNAME:Agenda do Vinho
X-ORIGINAL-URL:https://agendadovinho.com.br
X-WR-CALDESC:Eventos para Agenda do Vinho
BEGIN:VEVENT
DTSTART;TZID=America/Sao_Paulo:20200813T200000
DTEND;TZID=America/Sao_Paulo:20200813T200000
DTSTAMP:20260422T160721
CREATED:20200810T172835Z
LAST-MODIFIED:20200810T172835Z
UID:15556-1597348800-1597348800@agendadovinho.com.br
SUMMARY:Bate-papo com Felipe Bebber\, enólogo da Vinícola Família Bebber
DESCRIPTION:13/ago – 20:00 \n
URL:https://agendadovinho.com.br/event/bate-papo-com-felipe-bebber-enologo-da-vinicola-familia-bebber/
LOCATION:Instagram
CATEGORIES:Curso técnico,Online
ATTACH;FMTTYPE=image/jpeg:https://agendadovinho.com.br/wp-content/uploads/2020/08/somm_nataliagaion_130820.jpg
END:VEVENT
END:VCALENDAR