BEGIN:VCALENDAR
VERSION:2.0
PRODID:-//Agenda do Vinho - ECPv4.9.0//NONSGML v1.0//EN
CALSCALE:GREGORIAN
METHOD:PUBLISH
X-WR-CALNAME:Agenda do Vinho
X-ORIGINAL-URL:https://agendadovinho.com.br
X-WR-CALDESC:Eventos para Agenda do Vinho
BEGIN:VEVENT
DTSTART;TZID=America/Sao_Paulo:20200923T200000
DTEND;TZID=America/Sao_Paulo:20200923T200000
DTSTAMP:20260425T164627
CREATED:20200923T154412Z
LAST-MODIFIED:20200923T154412Z
UID:16026-1600891200-1600891200@agendadovinho.com.br
SUMMARY:Bate-papo com Eduardo Pozza Tartaro\, sommelier da Vinícola Aurora
DESCRIPTION:23/set – 20:00 \n
URL:https://agendadovinho.com.br/event/bate-papo-com-eduardo-pozza-tartaro-sommelier-da-vinicola-aurora/
LOCATION:Instagram
CATEGORIES:Curso técnico,Online
ATTACH;FMTTYPE=image/jpeg:https://agendadovinho.com.br/wp-content/uploads/2020/09/somm_nataliagaion_230920.jpg
END:VEVENT
END:VCALENDAR