BEGIN:VCALENDAR
VERSION:2.0
PRODID:-//Agenda do Vinho - ECPv4.9.0//NONSGML v1.0//EN
CALSCALE:GREGORIAN
METHOD:PUBLISH
X-WR-CALNAME:Agenda do Vinho
X-ORIGINAL-URL:https://agendadovinho.com.br
X-WR-CALDESC:Eventos para Agenda do Vinho
BEGIN:VEVENT
DTSTART;TZID=America/Sao_Paulo:20200820T190000
DTEND;TZID=America/Sao_Paulo:20200820T190000
DTSTAMP:20260423T080151
CREATED:20200817T155420Z
LAST-MODIFIED:20200817T155420Z
UID:15675-1597950000-1597950000@agendadovinho.com.br
SUMMARY:Bate-papo com Daniel Místico\, embaixador e sommelier da Casa Valduga
DESCRIPTION:20/ago – 19:00 \n
URL:https://agendadovinho.com.br/event/bate-papo-com-daniel-mistico-embaixador-e-sommelier-da-casa-valduga/
LOCATION:Instagram
CATEGORIES:Curso técnico,Online
ATTACH;FMTTYPE=image/jpeg:https://agendadovinho.com.br/wp-content/uploads/2020/08/somm_nataliagaion_200820.jpg
END:VEVENT
END:VCALENDAR