BEGIN:VCALENDAR
VERSION:2.0
PRODID:-//Agenda do Vinho - ECPv4.9.0//NONSGML v1.0//EN
CALSCALE:GREGORIAN
METHOD:PUBLISH
X-WR-CALNAME:Agenda do Vinho
X-ORIGINAL-URL:https://agendadovinho.com.br
X-WR-CALDESC:Eventos para Agenda do Vinho
BEGIN:VEVENT
DTSTART;TZID=America/Sao_Paulo:20200422T190000
DTEND;TZID=America/Sao_Paulo:20200422T190000
DTSTAMP:20260426T035855
CREATED:20200422T185507Z
LAST-MODIFIED:20200422T185507Z
UID:12785-1587582000-1587582000@agendadovinho.com.br
SUMMARY:Bate papo com a ABS-RS
DESCRIPTION:22/04 – 19:00. \n
URL:https://agendadovinho.com.br/event/bate-papo-com-a-abs-rs/
LOCATION:Instagram
CATEGORIES:Curso técnico,Online
ATTACH;FMTTYPE=image/jpeg:https://agendadovinho.com.br/wp-content/uploads/2020/04/abs_sp_220420.jpg
END:VEVENT
END:VCALENDAR