BEGIN:VCALENDAR
VERSION:2.0
PRODID:-//Agenda do Vinho - ECPv4.9.0//NONSGML v1.0//EN
CALSCALE:GREGORIAN
METHOD:PUBLISH
X-WR-CALNAME:Agenda do Vinho
X-ORIGINAL-URL:https://agendadovinho.com.br
X-WR-CALDESC:Eventos para Agenda do Vinho
BEGIN:VEVENT
DTSTART;TZID=America/Sao_Paulo:20200615T170000
DTEND;TZID=America/Sao_Paulo:20200615T170000
DTSTAMP:20260423T092706
CREATED:20200615T155512Z
LAST-MODIFIED:20200615T155512Z
UID:14183-1592240400-1592240400@agendadovinho.com.br
SUMMARY:Barolo e Piemonte
DESCRIPTION:15/06 – 17h \n
URL:https://agendadovinho.com.br/event/barolo-e-piemonte/
LOCATION:Instagram
CATEGORIES:Curso técnico,Online
ATTACH;FMTTYPE=image/jpeg:https://agendadovinho.com.br/wp-content/uploads/2020/06/diegoarrebola_150620.jpg
END:VEVENT
END:VCALENDAR