BEGIN:VCALENDAR
VERSION:2.0
PRODID:-//Agenda do Vinho - ECPv4.9.0//NONSGML v1.0//EN
CALSCALE:GREGORIAN
METHOD:PUBLISH
X-WR-CALNAME:Agenda do Vinho
X-ORIGINAL-URL:https://agendadovinho.com.br
X-WR-CALDESC:Eventos para Agenda do Vinho
BEGIN:VEVENT
DTSTART;TZID=America/Sao_Paulo:20200708T200000
DTEND;TZID=America/Sao_Paulo:20200708T200000
DTSTAMP:20260425T215201
CREATED:20200708T160713Z
LAST-MODIFIED:20200708T160713Z
UID:14849-1594238400-1594238400@agendadovinho.com.br
SUMMARY:Atualidades e tendências no mercado de vinhos
DESCRIPTION:08/jul – 20:00 \n
URL:https://agendadovinho.com.br/event/atualidades-e-tendencias-no-mercado-de-vinhos/
LOCATION:Instagram
CATEGORIES:Curso técnico,Online
ATTACH;FMTTYPE=image/jpeg:https://agendadovinho.com.br/wp-content/uploads/2020/07/cristianemirandasoficial_080720.jpg
END:VEVENT
END:VCALENDAR