BEGIN:VCALENDAR
VERSION:2.0
PRODID:-//Agenda do Vinho - ECPv4.9.0//NONSGML v1.0//EN
CALSCALE:GREGORIAN
METHOD:PUBLISH
X-WR-CALNAME:Agenda do Vinho
X-ORIGINAL-URL:https://agendadovinho.com.br
X-WR-CALDESC:Eventos para Agenda do Vinho
BEGIN:VEVENT
DTSTART;TZID=America/Sao_Paulo:20240525T170000
DTEND;TZID=America/Sao_Paulo:20240525T183000
DTSTAMP:20260420T190937
CREATED:20240520T162401Z
LAST-MODIFIED:20240520T162401Z
UID:20133-1716656400-1716661800@agendadovinho.com.br
SUMMARY:Atelier de Vinhos - Terroirs do Brasil: Edição Outono
DESCRIPTION:
URL:https://agendadovinho.com.br/event/atelier-de-vinhos-terroirs-do-brasil-edicao-outono/
LOCATION:Aliança Francesa de Curitiba\, Alameda Prudente de Moraes\, 1101 - Centro\, Curitiba\, PR\, 80430-234\, Brasil
CATEGORIES:Curso técnico,PR - Curitiba
ATTACH;FMTTYPE=image/png:https://agendadovinho.com.br/wp-content/uploads/2024/05/atelier-de-vinhos_250524.png
END:VEVENT
END:VCALENDAR