BEGIN:VCALENDAR
VERSION:2.0
PRODID:-//Agenda do Vinho - ECPv4.9.0//NONSGML v1.0//EN
CALSCALE:GREGORIAN
METHOD:PUBLISH
X-WR-CALNAME:Agenda do Vinho
X-ORIGINAL-URL:https://agendadovinho.com.br
X-WR-CALDESC:Eventos para Agenda do Vinho
BEGIN:VEVENT
DTSTART;TZID=America/Sao_Paulo:20191123T200000
DTEND;TZID=America/Sao_Paulo:20191123T223000
DTSTAMP:20260426T030218
CREATED:20191011T175456Z
LAST-MODIFIED:20191011T175456Z
UID:9075-1574539200-1574548200@agendadovinho.com.br
SUMMARY:Assados & Vinhos - Menu Degustação
DESCRIPTION:Pra quem sempre pediu um evento com churrasco aqui está!!! Em parceria com o grande @smokeguedes vamos fazer uma noite para degustar diferentes assados e vinhos. Tudo isto num ambiente descontraído com boa música. \n
URL:https://agendadovinho.com.br/event/assados-vinhos-menu-degustacao/
LOCATION:La Bodeguita Experience\, Av. São Miguel\, 1151 - Centro\, Dois Irmãos - RS\, Dois Irmãos\, RS\, 93950-000\, Brasil
CATEGORIES:Degustação,RS - Demais cidades
ATTACH;FMTTYPE=image/jpeg:https://agendadovinho.com.br/wp-content/uploads/2019/10/assados-e-vinhos_231119.jpg
END:VEVENT
END:VCALENDAR