BEGIN:VCALENDAR
VERSION:2.0
PRODID:-//Agenda do Vinho - ECPv4.9.0//NONSGML v1.0//EN
CALSCALE:GREGORIAN
METHOD:PUBLISH
X-WR-CALNAME:Agenda do Vinho
X-ORIGINAL-URL:https://agendadovinho.com.br
X-WR-CALDESC:Eventos para Agenda do Vinho
BEGIN:VEVENT
DTSTART;TZID=America/Sao_Paulo:20200910T170000
DTEND;TZID=America/Sao_Paulo:20200910T170000
DTSTAMP:20260425T153300
CREATED:20200910T154814Z
LAST-MODIFIED:20200910T154814Z
UID:15905-1599757200-1599757200@agendadovinho.com.br
SUMMARY:As novas fronteiras do vinho no mundo
DESCRIPTION:10/set – 17:00 \n
URL:https://agendadovinho.com.br/event/as-novas-fronteiras-do-vinho-no-mundo/
LOCATION:Instagram
CATEGORIES:Curso técnico,Online
ATTACH;FMTTYPE=image/jpeg:https://agendadovinho.com.br/wp-content/uploads/2020/09/pro_vinho_br_100920.jpg
END:VEVENT
END:VCALENDAR