BEGIN:VCALENDAR
VERSION:2.0
PRODID:-//Agenda do Vinho - ECPv4.9.0//NONSGML v1.0//EN
CALSCALE:GREGORIAN
METHOD:PUBLISH
X-WR-CALNAME:Agenda do Vinho
X-ORIGINAL-URL:https://agendadovinho.com.br
X-WR-CALDESC:Eventos para Agenda do Vinho
BEGIN:VEVENT
DTSTART;TZID=America/Sao_Paulo:20200817T180000
DTEND;TZID=America/Sao_Paulo:20200817T180000
DTSTAMP:20260423T071607
CREATED:20200817T155558Z
LAST-MODIFIED:20200817T155558Z
UID:15674-1597687200-1597687200@agendadovinho.com.br
SUMMARY:As novas caras do Dão
DESCRIPTION:17/ago – 18:00 \n
URL:https://agendadovinho.com.br/event/as-novas-caras-do-dao/
LOCATION:Instagram
CATEGORIES:Curso técnico,Online
ATTACH;FMTTYPE=image/jpeg:https://agendadovinho.com.br/wp-content/uploads/2020/08/pro_vinho_br_170820.jpg
END:VEVENT
END:VCALENDAR