BEGIN:VCALENDAR
VERSION:2.0
PRODID:-//Agenda do Vinho - ECPv4.9.0//NONSGML v1.0//EN
CALSCALE:GREGORIAN
METHOD:PUBLISH
X-WR-CALNAME:Agenda do Vinho
X-ORIGINAL-URL:https://agendadovinho.com.br
X-WR-CALDESC:Eventos para Agenda do Vinho
BEGIN:VEVENT
DTSTART;TZID=America/Sao_Paulo:20201007T200000
DTEND;TZID=America/Sao_Paulo:20201007T200000
DTSTAMP:20260425T164109
CREATED:20200928T132801Z
LAST-MODIFIED:20200928T132801Z
UID:16062-1602100800-1602100800@agendadovinho.com.br
SUMMARY:As barricas e os vinhos
DESCRIPTION:07/out – 20:00 \n
URL:https://agendadovinho.com.br/event/as-barricas-e-os-vinhos/
LOCATION:Vídeo conferência
CATEGORIES:Curso técnico,Online
ATTACH;FMTTYPE=image/jpeg:https://agendadovinho.com.br/wp-content/uploads/2020/09/duvalewinetasting_071020.jpg
END:VEVENT
END:VCALENDAR