BEGIN:VCALENDAR
VERSION:2.0
PRODID:-//Agenda do Vinho - ECPv4.9.0//NONSGML v1.0//EN
CALSCALE:GREGORIAN
METHOD:PUBLISH
X-WR-CALNAME:Agenda do Vinho
X-ORIGINAL-URL:https://agendadovinho.com.br
X-WR-CALDESC:Eventos para Agenda do Vinho
BEGIN:VEVENT
DTSTART;TZID=America/Sao_Paulo:20200526T200000
DTEND;TZID=America/Sao_Paulo:20200526T200000
DTSTAMP:20260426T004746
CREATED:20200525T180354Z
LAST-MODIFIED:20200525T180354Z
UID:13673-1590523200-1590523200@agendadovinho.com.br
SUMMARY:Aromas do vinho
DESCRIPTION:26/05 – 20h \n
URL:https://agendadovinho.com.br/event/aromas-do-vinho/
LOCATION:Vídeo conferência
CATEGORIES:Curso técnico,Online
ATTACH;FMTTYPE=image/jpeg:https://agendadovinho.com.br/wp-content/uploads/2020/05/fracarowine_260520.jpg
END:VEVENT
END:VCALENDAR