BEGIN:VCALENDAR
VERSION:2.0
PRODID:-//Agenda do Vinho - ECPv4.9.0//NONSGML v1.0//EN
CALSCALE:GREGORIAN
METHOD:PUBLISH
X-WR-CALNAME:Agenda do Vinho
X-ORIGINAL-URL:https://agendadovinho.com.br
X-WR-CALDESC:Eventos para Agenda do Vinho
BEGIN:VEVENT
DTSTART;TZID=America/Sao_Paulo:20191122T190000
DTEND;TZID=America/Sao_Paulo:20191122T220000
DTSTAMP:20260426T031216
CREATED:20191113T141000Z
LAST-MODIFIED:20191113T141000Z
UID:9669-1574449200-1574460000@agendadovinho.com.br
SUMMARY:Aprendendo a Avaliar um Vinho - Aumentando as Chances de Escholha de um vinho de Qualidade
DESCRIPTION:Principais tópicos: \n\nComponentes de um vinho de qualidade;\nLeitura básica de um rótulo e contra rótulo\nLeitura de uma ficha técnica;\nAvaliação comparativa às cegas de 2 vinhos brancos;\nAvaliação comparativa às cegas de 2 vinhos tintos;\nNoções básicas de harmonização;\n\n\nObjetivos a serem alcançados: \n\nDesenvolver a percepção gustativa dos alimentos\, principalmente do vinho;\nSaber degustar um vinho de forma apropriada;\nSaber escolher um vinho de qualidade a preços acessíveis;\nSaber avaliar um vinho;\nConfraternização entre os participantes;\n\nNúmero de participantes: 12 \n\nLocal: Instituto Capilare: Rua Cônego Pinheiro\, 579\, Santa Efigênia\, Bhte. \nInstrutor: Sommelier André Latini \nFormado pela Associação Brasileira de Sommeliers de Minas Gerasi -ABS-MG \nCertificação inglesa WSET Level 3 \nContato 031 – 984 549 199 \n\nObservações \n\nDuração do curso: aproximadamente 3 horas incluindo a parte teórica e a degustação.\nPara análise gustativa é considerada uma quantidade de aproximadamente 40 ml por amostra;\nPara participação é necessário ter idade superior a 18 anos;\nMesmo em pequenas quantidades o álcool afeta a capacidade motora\, por tanto se beber não dirija.\n\n\n
URL:https://agendadovinho.com.br/event/aprendendo-a-avaliar-um-vinho-aumentando-as-chances-de-escholha-de-um-vinho-de-qualidade/
LOCATION:Instituto Capilare\, Rua Cônego Pinheiro\, 579\, Paraíso\, Belo Horizonte\, MG\, Brasil
CATEGORIES:Curso técnico,MG - Belo Horizonte
ATTACH;FMTTYPE=image/jpeg:https://agendadovinho.com.br/wp-content/uploads/2019/11/aprendendo-a-avaliar-um-vinho_221119.jpg
END:VEVENT
END:VCALENDAR