BEGIN:VCALENDAR
VERSION:2.0
PRODID:-//Agenda do Vinho - ECPv4.9.0//NONSGML v1.0//EN
CALSCALE:GREGORIAN
METHOD:PUBLISH
X-WR-CALNAME:Agenda do Vinho
X-ORIGINAL-URL:https://agendadovinho.com.br
X-WR-CALDESC:Eventos para Agenda do Vinho
BEGIN:VEVENT
DTSTART;TZID=America/Sao_Paulo:20191018T190000
DTEND;TZID=America/Sao_Paulo:20191018T220000
DTSTAMP:20260419T140142
CREATED:20190922T180519Z
LAST-MODIFIED:20190922T180519Z
UID:8472-1571425200-1571436000@agendadovinho.com.br
SUMMARY:Amuse Bouche - Vinhos Franceses Harmonizados
DESCRIPTION:** Edição Especial com a presença do Produtor do Domaine La Rouillère** \n\nO Amuse Bouche chega pela primeira vez no Rio de Janeiro! Um sucesso por todas as cidades que passa\, o Amuse é uma noite agradável para você conhecer e degustar ótimos vinhos franceses harmonizados com um menu especial. O evento é organizado pela Chez France\, empresa franco-brasileira cuja estratégia baseia-se na divulgação e comercialização de vinhos franceses no Brasil. \nNesta edição do Amuse Bouche teremos a presença do produtor Bertrand Letrarte do Domaine La Rouillère de Provence. Serão degustados os vinhos rosés do Domaine La Rouillère além de outros rótulos da gama Chez France. Tudo isso harmonizado com um menu volante preparado especialmente para o evento pelo Restaurante da Hípica. \nNo valor do ingresso está incluso: Degustação de Vinhos\, Menu e Água. \nA Chez France reserva o direito de alterar as datas ou cancelar o evento caso o número de participantes não atinja o mínimo previsto. O valor pago será devolvido integralmente dentro de um prazo de até 07 dias corridos a partir do seu cancelamento. \n
URL:https://agendadovinho.com.br/event/amuse-bouche-vinhos-franceses-harmonizados-3/
LOCATION:Sociedade Hípica Brasileira\, Av. Lineu de Paula Machado\, 2448 - Lagoa\, Rio de Janeiro - RJ\, 22470-040\, Rio de Janeiro\, RJ\, 22470-040\, Brasil
CATEGORIES:Jantar harmonizado,RJ - Rio de Janeiro
ATTACH;FMTTYPE=image/jpeg:https://agendadovinho.com.br/wp-content/uploads/2019/09/amuse-bouche_181019.jpg
END:VEVENT
END:VCALENDAR