BEGIN:VCALENDAR
VERSION:2.0
PRODID:-//Agenda do Vinho - ECPv4.9.0//NONSGML v1.0//EN
CALSCALE:GREGORIAN
METHOD:PUBLISH
X-WR-CALNAME:Agenda do Vinho
X-ORIGINAL-URL:https://agendadovinho.com.br
X-WR-CALDESC:Eventos para Agenda do Vinho
BEGIN:VEVENT
DTSTART;TZID=America/Sao_Paulo:20200501T190000
DTEND;TZID=America/Sao_Paulo:20200501T190000
DTSTAMP:20260426T004946
CREATED:20200501T151720Z
LAST-MODIFIED:20200501T151720Z
UID:13074-1588359600-1588359600@agendadovinho.com.br
SUMMARY:África do Sul
DESCRIPTION:África do Sul com @artwine e @juniormedeiros77. \n
URL:https://agendadovinho.com.br/event/africa-do-sul/
LOCATION:Instagram
CATEGORIES:Curso técnico,Online
ATTACH;FMTTYPE=image/jpeg:https://agendadovinho.com.br/wp-content/uploads/2020/05/abs_sp_010520.jpg
END:VEVENT
END:VCALENDAR